BEGIN:VCALENDAR
VERSION:2.0
PRODID:-//Palma Ceia Baptist Church - ECPv6.15.20//NONSGML v1.0//EN
CALSCALE:GREGORIAN
METHOD:PUBLISH
X-ORIGINAL-URL:https://palmaceiachurch.org
X-WR-CALDESC:Events for Palma Ceia Baptist Church
REFRESH-INTERVAL;VALUE=DURATION:PT1H
X-Robots-Tag:noindex
X-PUBLISHED-TTL:PT1H
BEGIN:VTIMEZONE
TZID:America/Los_Angeles
BEGIN:DAYLIGHT
TZOFFSETFROM:-0800
TZOFFSETTO:-0700
TZNAME:PDT
DTSTART:20250309T100000
END:DAYLIGHT
BEGIN:STANDARD
TZOFFSETFROM:-0700
TZOFFSETTO:-0800
TZNAME:PST
DTSTART:20251102T090000
END:STANDARD
BEGIN:DAYLIGHT
TZOFFSETFROM:-0800
TZOFFSETTO:-0700
TZNAME:PDT
DTSTART:20260308T100000
END:DAYLIGHT
BEGIN:STANDARD
TZOFFSETFROM:-0700
TZOFFSETTO:-0800
TZNAME:PST
DTSTART:20261101T090000
END:STANDARD
BEGIN:DAYLIGHT
TZOFFSETFROM:-0800
TZOFFSETTO:-0700
TZNAME:PDT
DTSTART:20270314T100000
END:DAYLIGHT
BEGIN:STANDARD
TZOFFSETFROM:-0700
TZOFFSETTO:-0800
TZNAME:PST
DTSTART:20271107T090000
END:STANDARD
END:VTIMEZONE
BEGIN:VEVENT
DTSTART;TZID=America/Los_Angeles:20260424T120000
DTEND;TZID=America/Los_Angeles:20260424T130000
DTSTAMP:20260423T070247
CREATED:20260113T044040Z
LAST-MODIFIED:20260113T044040Z
UID:10004670-1777032000-1777035600@palmaceiachurch.org
SUMMARY:Call-In Prayer Line
DESCRIPTION:Join us for a soul-reviving experience on our noontime Call-In Prayer Line\, where the power of prayer transcends distance and the warmth of fellowship embraces every heart.
URL:https://palmaceiachurch.org/event/call-in-prayer-line-3/2026-04-24/
LOCATION:CA
END:VEVENT
BEGIN:VEVENT
DTSTART;TZID=America/Los_Angeles:20260425T120000
DTEND;TZID=America/Los_Angeles:20260425T130000
DTSTAMP:20260423T070247
CREATED:20260113T044040Z
LAST-MODIFIED:20260113T044040Z
UID:10004671-1777118400-1777122000@palmaceiachurch.org
SUMMARY:Call-In Prayer Line
DESCRIPTION:Join us for a soul-reviving experience on our noontime Call-In Prayer Line\, where the power of prayer transcends distance and the warmth of fellowship embraces every heart.
URL:https://palmaceiachurch.org/event/call-in-prayer-line-3/2026-04-25/
LOCATION:CA
END:VEVENT
BEGIN:VEVENT
DTSTART;TZID=America/Los_Angeles:20260426T084500
DTEND;TZID=America/Los_Angeles:20260426T094500
DTSTAMP:20260423T070247
CREATED:20260113T043725Z
LAST-MODIFIED:20260113T043725Z
UID:10004577-1777193100-1777196700@palmaceiachurch.org
SUMMARY:Sunday School
DESCRIPTION:School School classes are held for all age groups. All classes are held in Bennett Hall. \nFor adults\, classes are held every Sunday. For youth\, classes are held every second and fourth Sunday.
URL:https://palmaceiachurch.org/event/sunday-school-4/2026-04-26/
LOCATION:Palma Ceia Baptist Church\, 28605 Ruus Road\, Hayward\, CA\, 94544\, United States
GEO:37.6278524;-122.0675431
X-APPLE-STRUCTURED-LOCATION;VALUE=URI;X-ADDRESS=Palma Ceia Baptist Church 28605 Ruus Road Hayward CA 94544 United States;X-APPLE-RADIUS=500;X-TITLE=28605 Ruus Road:geo:-122.0675431,37.6278524
END:VEVENT
BEGIN:VEVENT
DTSTART;TZID=America/Los_Angeles:20260427T120000
DTEND;TZID=America/Los_Angeles:20260427T130000
DTSTAMP:20260423T070247
CREATED:20260113T044040Z
LAST-MODIFIED:20260113T044040Z
UID:10004672-1777291200-1777294800@palmaceiachurch.org
SUMMARY:Call-In Prayer Line
DESCRIPTION:Join us for a soul-reviving experience on our noontime Call-In Prayer Line\, where the power of prayer transcends distance and the warmth of fellowship embraces every heart.
URL:https://palmaceiachurch.org/event/call-in-prayer-line-3/2026-04-27/
LOCATION:CA
END:VEVENT
BEGIN:VEVENT
DTSTART;TZID=America/Los_Angeles:20260429T120000
DTEND;TZID=America/Los_Angeles:20260429T130000
DTSTAMP:20260423T070247
CREATED:20260113T044040Z
LAST-MODIFIED:20260113T044040Z
UID:10004673-1777464000-1777467600@palmaceiachurch.org
SUMMARY:Call-In Prayer Line
DESCRIPTION:Join us for a soul-reviving experience on our noontime Call-In Prayer Line\, where the power of prayer transcends distance and the warmth of fellowship embraces every heart.
URL:https://palmaceiachurch.org/event/call-in-prayer-line-3/2026-04-29/
LOCATION:CA
END:VEVENT
BEGIN:VEVENT
DTSTART;TZID=America/Los_Angeles:20260501T120000
DTEND;TZID=America/Los_Angeles:20260501T130000
DTSTAMP:20260423T070247
CREATED:20260113T044040Z
LAST-MODIFIED:20260113T044040Z
UID:10004674-1777636800-1777640400@palmaceiachurch.org
SUMMARY:Call-In Prayer Line
DESCRIPTION:Join us for a soul-reviving experience on our noontime Call-In Prayer Line\, where the power of prayer transcends distance and the warmth of fellowship embraces every heart.
URL:https://palmaceiachurch.org/event/call-in-prayer-line-3/2026-05-01/
LOCATION:CA
END:VEVENT
BEGIN:VEVENT
DTSTART;TZID=America/Los_Angeles:20260502T090000
DTEND;TZID=America/Los_Angeles:20260502T100000
DTSTAMP:20260423T070247
CREATED:20260113T044750Z
LAST-MODIFIED:20260113T044750Z
UID:10004827-1777712400-1777716000@palmaceiachurch.org
SUMMARY:Brotherhood Bible Study
DESCRIPTION:A Bible study tailored to the needs of our men. Held on first Saturdays in the Rev. John Thomas Room in Bennett Hall.
URL:https://palmaceiachurch.org/event/brotherhood-bible-study-2/2026-05-02/
LOCATION:Palma Ceia Baptist Church\, 28605 Ruus Road\, Hayward\, CA\, 94544\, United States
GEO:37.6278524;-122.0675431
X-APPLE-STRUCTURED-LOCATION;VALUE=URI;X-ADDRESS=Palma Ceia Baptist Church 28605 Ruus Road Hayward CA 94544 United States;X-APPLE-RADIUS=500;X-TITLE=28605 Ruus Road:geo:-122.0675431,37.6278524
END:VEVENT
BEGIN:VEVENT
DTSTART;TZID=America/Los_Angeles:20260502T120000
DTEND;TZID=America/Los_Angeles:20260502T130000
DTSTAMP:20260423T070247
CREATED:20260113T044040Z
LAST-MODIFIED:20260113T044040Z
UID:10004675-1777723200-1777726800@palmaceiachurch.org
SUMMARY:Call-In Prayer Line
DESCRIPTION:Join us for a soul-reviving experience on our noontime Call-In Prayer Line\, where the power of prayer transcends distance and the warmth of fellowship embraces every heart.
URL:https://palmaceiachurch.org/event/call-in-prayer-line-3/2026-05-02/
LOCATION:CA
END:VEVENT
BEGIN:VEVENT
DTSTART;TZID=America/Los_Angeles:20260503T084500
DTEND;TZID=America/Los_Angeles:20260503T094500
DTSTAMP:20260423T070247
CREATED:20260113T043725Z
LAST-MODIFIED:20260113T043725Z
UID:10004578-1777797900-1777801500@palmaceiachurch.org
SUMMARY:Sunday School
DESCRIPTION:School School classes are held for all age groups. All classes are held in Bennett Hall. \nFor adults\, classes are held every Sunday. For youth\, classes are held every second and fourth Sunday.
URL:https://palmaceiachurch.org/event/sunday-school-4/2026-05-03/
LOCATION:Palma Ceia Baptist Church\, 28605 Ruus Road\, Hayward\, CA\, 94544\, United States
GEO:37.6278524;-122.0675431
X-APPLE-STRUCTURED-LOCATION;VALUE=URI;X-ADDRESS=Palma Ceia Baptist Church 28605 Ruus Road Hayward CA 94544 United States;X-APPLE-RADIUS=500;X-TITLE=28605 Ruus Road:geo:-122.0675431,37.6278524
END:VEVENT
BEGIN:VEVENT
DTSTART;TZID=America/Los_Angeles:20260504T120000
DTEND;TZID=America/Los_Angeles:20260504T130000
DTSTAMP:20260423T070247
CREATED:20260113T044040Z
LAST-MODIFIED:20260113T044040Z
UID:10004676-1777896000-1777899600@palmaceiachurch.org
SUMMARY:Call-In Prayer Line
DESCRIPTION:Join us for a soul-reviving experience on our noontime Call-In Prayer Line\, where the power of prayer transcends distance and the warmth of fellowship embraces every heart.
URL:https://palmaceiachurch.org/event/call-in-prayer-line-3/2026-05-04/
LOCATION:CA
END:VEVENT
BEGIN:VEVENT
DTSTART;TZID=America/Los_Angeles:20260506T120000
DTEND;TZID=America/Los_Angeles:20260506T130000
DTSTAMP:20260423T070247
CREATED:20260113T044040Z
LAST-MODIFIED:20260113T044040Z
UID:10004677-1778068800-1778072400@palmaceiachurch.org
SUMMARY:Call-In Prayer Line
DESCRIPTION:Join us for a soul-reviving experience on our noontime Call-In Prayer Line\, where the power of prayer transcends distance and the warmth of fellowship embraces every heart.
URL:https://palmaceiachurch.org/event/call-in-prayer-line-3/2026-05-06/
LOCATION:CA
END:VEVENT
BEGIN:VEVENT
DTSTART;TZID=America/Los_Angeles:20260508T120000
DTEND;TZID=America/Los_Angeles:20260508T130000
DTSTAMP:20260423T070247
CREATED:20260113T044040Z
LAST-MODIFIED:20260113T044040Z
UID:10004678-1778241600-1778245200@palmaceiachurch.org
SUMMARY:Call-In Prayer Line
DESCRIPTION:Join us for a soul-reviving experience on our noontime Call-In Prayer Line\, where the power of prayer transcends distance and the warmth of fellowship embraces every heart.
URL:https://palmaceiachurch.org/event/call-in-prayer-line-3/2026-05-08/
LOCATION:CA
END:VEVENT
BEGIN:VEVENT
DTSTART;TZID=America/Los_Angeles:20260509T120000
DTEND;TZID=America/Los_Angeles:20260509T130000
DTSTAMP:20260423T070247
CREATED:20260113T044040Z
LAST-MODIFIED:20260113T044040Z
UID:10004679-1778328000-1778331600@palmaceiachurch.org
SUMMARY:Call-In Prayer Line
DESCRIPTION:Join us for a soul-reviving experience on our noontime Call-In Prayer Line\, where the power of prayer transcends distance and the warmth of fellowship embraces every heart.
URL:https://palmaceiachurch.org/event/call-in-prayer-line-3/2026-05-09/
LOCATION:CA
END:VEVENT
BEGIN:VEVENT
DTSTART;TZID=America/Los_Angeles:20260510T084500
DTEND;TZID=America/Los_Angeles:20260510T094500
DTSTAMP:20260423T070247
CREATED:20260113T043725Z
LAST-MODIFIED:20260113T043725Z
UID:10004579-1778402700-1778406300@palmaceiachurch.org
SUMMARY:Sunday School
DESCRIPTION:School School classes are held for all age groups. All classes are held in Bennett Hall. \nFor adults\, classes are held every Sunday. For youth\, classes are held every second and fourth Sunday.
URL:https://palmaceiachurch.org/event/sunday-school-4/2026-05-10/
LOCATION:Palma Ceia Baptist Church\, 28605 Ruus Road\, Hayward\, CA\, 94544\, United States
GEO:37.6278524;-122.0675431
X-APPLE-STRUCTURED-LOCATION;VALUE=URI;X-ADDRESS=Palma Ceia Baptist Church 28605 Ruus Road Hayward CA 94544 United States;X-APPLE-RADIUS=500;X-TITLE=28605 Ruus Road:geo:-122.0675431,37.6278524
END:VEVENT
BEGIN:VEVENT
DTSTART;TZID=America/Los_Angeles:20260511T120000
DTEND;TZID=America/Los_Angeles:20260511T130000
DTSTAMP:20260423T070247
CREATED:20260113T044040Z
LAST-MODIFIED:20260113T044040Z
UID:10004680-1778500800-1778504400@palmaceiachurch.org
SUMMARY:Call-In Prayer Line
DESCRIPTION:Join us for a soul-reviving experience on our noontime Call-In Prayer Line\, where the power of prayer transcends distance and the warmth of fellowship embraces every heart.
URL:https://palmaceiachurch.org/event/call-in-prayer-line-3/2026-05-11/
LOCATION:CA
END:VEVENT
BEGIN:VEVENT
DTSTART;TZID=America/Los_Angeles:20260513T120000
DTEND;TZID=America/Los_Angeles:20260513T130000
DTSTAMP:20260423T070247
CREATED:20260113T044040Z
LAST-MODIFIED:20260113T044040Z
UID:10004681-1778673600-1778677200@palmaceiachurch.org
SUMMARY:Call-In Prayer Line
DESCRIPTION:Join us for a soul-reviving experience on our noontime Call-In Prayer Line\, where the power of prayer transcends distance and the warmth of fellowship embraces every heart.
URL:https://palmaceiachurch.org/event/call-in-prayer-line-3/2026-05-13/
LOCATION:CA
END:VEVENT
BEGIN:VEVENT
DTSTART;TZID=America/Los_Angeles:20260515T120000
DTEND;TZID=America/Los_Angeles:20260515T130000
DTSTAMP:20260423T070247
CREATED:20260113T044040Z
LAST-MODIFIED:20260113T044040Z
UID:10004682-1778846400-1778850000@palmaceiachurch.org
SUMMARY:Call-In Prayer Line
DESCRIPTION:Join us for a soul-reviving experience on our noontime Call-In Prayer Line\, where the power of prayer transcends distance and the warmth of fellowship embraces every heart.
URL:https://palmaceiachurch.org/event/call-in-prayer-line-3/2026-05-15/
LOCATION:CA
END:VEVENT
BEGIN:VEVENT
DTSTART;TZID=America/Los_Angeles:20260516T100000
DTEND;TZID=America/Los_Angeles:20260516T120000
DTSTAMP:20260423T070247
CREATED:20260113T044922Z
LAST-MODIFIED:20260113T044922Z
UID:10004839-1778925600-1778932800@palmaceiachurch.org
SUMMARY:Women’s Bible Study
DESCRIPTION:A Bible study tailored to the needs of our women. Held on third Saturdays in the Rev. John Thomas Room in Bennett Hall.
URL:https://palmaceiachurch.org/event/womens-bible-study-2/2026-05-16/
LOCATION:Palma Ceia Baptist Church\, 28605 Ruus Road\, Hayward\, CA\, 94544\, United States
GEO:37.6278524;-122.0675431
X-APPLE-STRUCTURED-LOCATION;VALUE=URI;X-ADDRESS=Palma Ceia Baptist Church 28605 Ruus Road Hayward CA 94544 United States;X-APPLE-RADIUS=500;X-TITLE=28605 Ruus Road:geo:-122.0675431,37.6278524
END:VEVENT
BEGIN:VEVENT
DTSTART;TZID=America/Los_Angeles:20260516T120000
DTEND;TZID=America/Los_Angeles:20260516T130000
DTSTAMP:20260423T070247
CREATED:20260113T044040Z
LAST-MODIFIED:20260113T044040Z
UID:10004683-1778932800-1778936400@palmaceiachurch.org
SUMMARY:Call-In Prayer Line
DESCRIPTION:Join us for a soul-reviving experience on our noontime Call-In Prayer Line\, where the power of prayer transcends distance and the warmth of fellowship embraces every heart.
URL:https://palmaceiachurch.org/event/call-in-prayer-line-3/2026-05-16/
LOCATION:CA
END:VEVENT
BEGIN:VEVENT
DTSTART;TZID=America/Los_Angeles:20260517T084500
DTEND;TZID=America/Los_Angeles:20260517T094500
DTSTAMP:20260423T070247
CREATED:20260113T043725Z
LAST-MODIFIED:20260113T043725Z
UID:10004580-1779007500-1779011100@palmaceiachurch.org
SUMMARY:Sunday School
DESCRIPTION:School School classes are held for all age groups. All classes are held in Bennett Hall. \nFor adults\, classes are held every Sunday. For youth\, classes are held every second and fourth Sunday.
URL:https://palmaceiachurch.org/event/sunday-school-4/2026-05-17/
LOCATION:Palma Ceia Baptist Church\, 28605 Ruus Road\, Hayward\, CA\, 94544\, United States
GEO:37.6278524;-122.0675431
X-APPLE-STRUCTURED-LOCATION;VALUE=URI;X-ADDRESS=Palma Ceia Baptist Church 28605 Ruus Road Hayward CA 94544 United States;X-APPLE-RADIUS=500;X-TITLE=28605 Ruus Road:geo:-122.0675431,37.6278524
END:VEVENT
BEGIN:VEVENT
DTSTART;TZID=America/Los_Angeles:20260518T120000
DTEND;TZID=America/Los_Angeles:20260518T130000
DTSTAMP:20260423T070247
CREATED:20260113T044040Z
LAST-MODIFIED:20260113T044040Z
UID:10004684-1779105600-1779109200@palmaceiachurch.org
SUMMARY:Call-In Prayer Line
DESCRIPTION:Join us for a soul-reviving experience on our noontime Call-In Prayer Line\, where the power of prayer transcends distance and the warmth of fellowship embraces every heart.
URL:https://palmaceiachurch.org/event/call-in-prayer-line-3/2026-05-18/
LOCATION:CA
END:VEVENT
BEGIN:VEVENT
DTSTART;TZID=America/Los_Angeles:20260520T120000
DTEND;TZID=America/Los_Angeles:20260520T130000
DTSTAMP:20260423T070247
CREATED:20260113T044040Z
LAST-MODIFIED:20260113T044040Z
UID:10004685-1779278400-1779282000@palmaceiachurch.org
SUMMARY:Call-In Prayer Line
DESCRIPTION:Join us for a soul-reviving experience on our noontime Call-In Prayer Line\, where the power of prayer transcends distance and the warmth of fellowship embraces every heart.
URL:https://palmaceiachurch.org/event/call-in-prayer-line-3/2026-05-20/
LOCATION:CA
END:VEVENT
BEGIN:VEVENT
DTSTART;TZID=America/Los_Angeles:20260522T120000
DTEND;TZID=America/Los_Angeles:20260522T130000
DTSTAMP:20260423T070247
CREATED:20260113T044040Z
LAST-MODIFIED:20260113T044040Z
UID:10004686-1779451200-1779454800@palmaceiachurch.org
SUMMARY:Call-In Prayer Line
DESCRIPTION:Join us for a soul-reviving experience on our noontime Call-In Prayer Line\, where the power of prayer transcends distance and the warmth of fellowship embraces every heart.
URL:https://palmaceiachurch.org/event/call-in-prayer-line-3/2026-05-22/
LOCATION:CA
END:VEVENT
BEGIN:VEVENT
DTSTART;TZID=America/Los_Angeles:20260523T120000
DTEND;TZID=America/Los_Angeles:20260523T130000
DTSTAMP:20260423T070247
CREATED:20260113T044040Z
LAST-MODIFIED:20260113T044040Z
UID:10004687-1779537600-1779541200@palmaceiachurch.org
SUMMARY:Call-In Prayer Line
DESCRIPTION:Join us for a soul-reviving experience on our noontime Call-In Prayer Line\, where the power of prayer transcends distance and the warmth of fellowship embraces every heart.
URL:https://palmaceiachurch.org/event/call-in-prayer-line-3/2026-05-23/
LOCATION:CA
END:VEVENT
BEGIN:VEVENT
DTSTART;TZID=America/Los_Angeles:20260524T084500
DTEND;TZID=America/Los_Angeles:20260524T094500
DTSTAMP:20260423T070247
CREATED:20260113T043725Z
LAST-MODIFIED:20260113T043725Z
UID:10004581-1779612300-1779615900@palmaceiachurch.org
SUMMARY:Sunday School
DESCRIPTION:School School classes are held for all age groups. All classes are held in Bennett Hall. \nFor adults\, classes are held every Sunday. For youth\, classes are held every second and fourth Sunday.
URL:https://palmaceiachurch.org/event/sunday-school-4/2026-05-24/
LOCATION:Palma Ceia Baptist Church\, 28605 Ruus Road\, Hayward\, CA\, 94544\, United States
GEO:37.6278524;-122.0675431
X-APPLE-STRUCTURED-LOCATION;VALUE=URI;X-ADDRESS=Palma Ceia Baptist Church 28605 Ruus Road Hayward CA 94544 United States;X-APPLE-RADIUS=500;X-TITLE=28605 Ruus Road:geo:-122.0675431,37.6278524
END:VEVENT
BEGIN:VEVENT
DTSTART;TZID=America/Los_Angeles:20260525T120000
DTEND;TZID=America/Los_Angeles:20260525T130000
DTSTAMP:20260423T070247
CREATED:20260113T044040Z
LAST-MODIFIED:20260113T044040Z
UID:10004688-1779710400-1779714000@palmaceiachurch.org
SUMMARY:Call-In Prayer Line
DESCRIPTION:Join us for a soul-reviving experience on our noontime Call-In Prayer Line\, where the power of prayer transcends distance and the warmth of fellowship embraces every heart.
URL:https://palmaceiachurch.org/event/call-in-prayer-line-3/2026-05-25/
LOCATION:CA
END:VEVENT
BEGIN:VEVENT
DTSTART;TZID=America/Los_Angeles:20260527T120000
DTEND;TZID=America/Los_Angeles:20260527T130000
DTSTAMP:20260423T070247
CREATED:20260113T044040Z
LAST-MODIFIED:20260113T044040Z
UID:10004689-1779883200-1779886800@palmaceiachurch.org
SUMMARY:Call-In Prayer Line
DESCRIPTION:Join us for a soul-reviving experience on our noontime Call-In Prayer Line\, where the power of prayer transcends distance and the warmth of fellowship embraces every heart.
URL:https://palmaceiachurch.org/event/call-in-prayer-line-3/2026-05-27/
LOCATION:CA
END:VEVENT
BEGIN:VEVENT
DTSTART;TZID=America/Los_Angeles:20260529T120000
DTEND;TZID=America/Los_Angeles:20260529T130000
DTSTAMP:20260423T070247
CREATED:20260113T044040Z
LAST-MODIFIED:20260113T044040Z
UID:10004690-1780056000-1780059600@palmaceiachurch.org
SUMMARY:Call-In Prayer Line
DESCRIPTION:Join us for a soul-reviving experience on our noontime Call-In Prayer Line\, where the power of prayer transcends distance and the warmth of fellowship embraces every heart.
URL:https://palmaceiachurch.org/event/call-in-prayer-line-3/2026-05-29/
LOCATION:CA
END:VEVENT
BEGIN:VEVENT
DTSTART;TZID=America/Los_Angeles:20260530T120000
DTEND;TZID=America/Los_Angeles:20260530T130000
DTSTAMP:20260423T070247
CREATED:20260113T044040Z
LAST-MODIFIED:20260113T044040Z
UID:10004691-1780142400-1780146000@palmaceiachurch.org
SUMMARY:Call-In Prayer Line
DESCRIPTION:Join us for a soul-reviving experience on our noontime Call-In Prayer Line\, where the power of prayer transcends distance and the warmth of fellowship embraces every heart.
URL:https://palmaceiachurch.org/event/call-in-prayer-line-3/2026-05-30/
LOCATION:CA
END:VEVENT
BEGIN:VEVENT
DTSTART;TZID=America/Los_Angeles:20260531T084500
DTEND;TZID=America/Los_Angeles:20260531T094500
DTSTAMP:20260423T070247
CREATED:20260113T043725Z
LAST-MODIFIED:20260113T043725Z
UID:10004582-1780217100-1780220700@palmaceiachurch.org
SUMMARY:Sunday School
DESCRIPTION:School School classes are held for all age groups. All classes are held in Bennett Hall. \nFor adults\, classes are held every Sunday. For youth\, classes are held every second and fourth Sunday.
URL:https://palmaceiachurch.org/event/sunday-school-4/2026-05-31/
LOCATION:Palma Ceia Baptist Church\, 28605 Ruus Road\, Hayward\, CA\, 94544\, United States
GEO:37.6278524;-122.0675431
X-APPLE-STRUCTURED-LOCATION;VALUE=URI;X-ADDRESS=Palma Ceia Baptist Church 28605 Ruus Road Hayward CA 94544 United States;X-APPLE-RADIUS=500;X-TITLE=28605 Ruus Road:geo:-122.0675431,37.6278524
END:VEVENT
END:VCALENDAR